BEGIN:VCALENDAR
VERSION:2.0
PRODID:-//St Bede&#039;s Catholic Primary School - ECPv6.15.16//NONSGML v1.0//EN
CALSCALE:GREGORIAN
METHOD:PUBLISH
X-WR-CALNAME:St Bede&#039;s Catholic Primary School
X-ORIGINAL-URL:https://www.stbedesprimary.co.uk
X-WR-CALDESC:Events for St Bede&#039;s Catholic Primary School
REFRESH-INTERVAL;VALUE=DURATION:PT1H
X-Robots-Tag:noindex
X-PUBLISHED-TTL:PT1H
BEGIN:VTIMEZONE
TZID:Europe/London
BEGIN:DAYLIGHT
TZOFFSETFROM:+0000
TZOFFSETTO:+0100
TZNAME:BST
DTSTART:20240331T010000
END:DAYLIGHT
BEGIN:STANDARD
TZOFFSETFROM:+0100
TZOFFSETTO:+0000
TZNAME:GMT
DTSTART:20241027T010000
END:STANDARD
BEGIN:DAYLIGHT
TZOFFSETFROM:+0000
TZOFFSETTO:+0100
TZNAME:BST
DTSTART:20250330T010000
END:DAYLIGHT
BEGIN:STANDARD
TZOFFSETFROM:+0100
TZOFFSETTO:+0000
TZNAME:GMT
DTSTART:20251026T010000
END:STANDARD
BEGIN:DAYLIGHT
TZOFFSETFROM:+0000
TZOFFSETTO:+0100
TZNAME:BST
DTSTART:20260329T010000
END:DAYLIGHT
BEGIN:STANDARD
TZOFFSETFROM:+0100
TZOFFSETTO:+0000
TZNAME:GMT
DTSTART:20261025T010000
END:STANDARD
END:VTIMEZONE
BEGIN:VEVENT
DTSTART;VALUE=DATE:20250106
DTEND;VALUE=DATE:20250405
DTSTAMP:20260423T222929
CREATED:20240703T150205Z
LAST-MODIFIED:20240703T150205Z
UID:17747-1736121600-1743811199@www.stbedesprimary.co.uk
SUMMARY:Spring Term 2025
DESCRIPTION:
URL:https://www.stbedesprimary.co.uk/diary-date/spring-term-2025/
CATEGORIES:24_25
END:VEVENT
BEGIN:VEVENT
DTSTART;VALUE=DATE:20250203
DTEND;VALUE=DATE:20250204
DTSTAMP:20260423T222929
CREATED:20241009T144853Z
LAST-MODIFIED:20241009T144853Z
UID:17936-1738540800-1738627199@www.stbedesprimary.co.uk
SUMMARY:Year 4 Trip to Winchester Science Museum
DESCRIPTION:
URL:https://www.stbedesprimary.co.uk/diary-date/year-4-trip-to-winchester-science-museum/
END:VEVENT
BEGIN:VEVENT
DTSTART;TZID=Europe/London:20250210T160000
DTEND;TZID=Europe/London:20250210T190000
DTSTAMP:20260423T222929
CREATED:20241009T145022Z
LAST-MODIFIED:20241009T145022Z
UID:17938-1739203200-1739214000@www.stbedesprimary.co.uk
SUMMARY:Parents Evening
DESCRIPTION:An email will be sent with instructions for you to log on and book a slot for your child.
URL:https://www.stbedesprimary.co.uk/diary-date/parents-evening-7/
END:VEVENT
BEGIN:VEVENT
DTSTART;VALUE=DATE:20250211
DTEND;VALUE=DATE:20250212
DTSTAMP:20260423T222929
CREATED:20241009T145455Z
LAST-MODIFIED:20241009T145455Z
UID:17940-1739232000-1739318399@www.stbedesprimary.co.uk
SUMMARY:Year 1 & Year 5 Fire 🔥 Safety Visit
DESCRIPTION:
URL:https://www.stbedesprimary.co.uk/diary-date/year-1-year-5-fire-%f0%9f%94%a5-safety-visit/
END:VEVENT
BEGIN:VEVENT
DTSTART;TZID=Europe/London:20250213T160000
DTEND;TZID=Europe/London:20250213T190000
DTSTAMP:20260423T222929
CREATED:20241009T145601Z
LAST-MODIFIED:20241009T145601Z
UID:17942-1739462400-1739473200@www.stbedesprimary.co.uk
SUMMARY:Parents Evening
DESCRIPTION:An email will be sent with instructions how to log on and book a slot for your child.
URL:https://www.stbedesprimary.co.uk/diary-date/parents-evening-8/
END:VEVENT
BEGIN:VEVENT
DTSTART;VALUE=DATE:20250214
DTEND;VALUE=DATE:20250215
DTSTAMP:20260423T222929
CREATED:20240703T150349Z
LAST-MODIFIED:20240703T150349Z
UID:17751-1739491200-1739577599@www.stbedesprimary.co.uk
SUMMARY:INSET Day
DESCRIPTION:
URL:https://www.stbedesprimary.co.uk/diary-date/inset-day-4/
CATEGORIES:24_25
END:VEVENT
BEGIN:VEVENT
DTSTART;VALUE=DATE:20250217
DTEND;VALUE=DATE:20250222
DTSTAMP:20260423T222929
CREATED:20240703T150248Z
LAST-MODIFIED:20240703T150317Z
UID:17749-1739750400-1740182399@www.stbedesprimary.co.uk
SUMMARY:Spring Half-Term 2025
DESCRIPTION:
URL:https://www.stbedesprimary.co.uk/diary-date/spring-half-term-2025/
CATEGORIES:24_25
END:VEVENT
BEGIN:VEVENT
DTSTART;VALUE=DATE:20250224
DTEND;VALUE=DATE:20250225
DTSTAMP:20260423T222929
CREATED:20241009T145704Z
LAST-MODIFIED:20241009T145704Z
UID:17944-1740355200-1740441599@www.stbedesprimary.co.uk
SUMMARY:Children Return to School
DESCRIPTION:
URL:https://www.stbedesprimary.co.uk/diary-date/children-return-to-school-3/
END:VEVENT
END:VCALENDAR