BEGIN:VCALENDAR
VERSION:2.0
PRODID:-//St Bede&#039;s Catholic Primary School - ECPv6.15.16//NONSGML v1.0//EN
CALSCALE:GREGORIAN
METHOD:PUBLISH
X-ORIGINAL-URL:https://www.stbedesprimary.co.uk
X-WR-CALDESC:Events for St Bede&#039;s Catholic Primary School
REFRESH-INTERVAL;VALUE=DURATION:PT1H
X-Robots-Tag:noindex
X-PUBLISHED-TTL:PT1H
BEGIN:VTIMEZONE
TZID:Europe/London
BEGIN:DAYLIGHT
TZOFFSETFROM:+0000
TZOFFSETTO:+0100
TZNAME:BST
DTSTART:20240331T010000
END:DAYLIGHT
BEGIN:STANDARD
TZOFFSETFROM:+0100
TZOFFSETTO:+0000
TZNAME:GMT
DTSTART:20241027T010000
END:STANDARD
BEGIN:DAYLIGHT
TZOFFSETFROM:+0000
TZOFFSETTO:+0100
TZNAME:BST
DTSTART:20250330T010000
END:DAYLIGHT
BEGIN:STANDARD
TZOFFSETFROM:+0100
TZOFFSETTO:+0000
TZNAME:GMT
DTSTART:20251026T010000
END:STANDARD
BEGIN:DAYLIGHT
TZOFFSETFROM:+0000
TZOFFSETTO:+0100
TZNAME:BST
DTSTART:20260329T010000
END:DAYLIGHT
BEGIN:STANDARD
TZOFFSETFROM:+0100
TZOFFSETTO:+0000
TZNAME:GMT
DTSTART:20261025T010000
END:STANDARD
END:VTIMEZONE
BEGIN:VEVENT
DTSTART;VALUE=DATE:20250106
DTEND;VALUE=DATE:20250405
DTSTAMP:20260423T184236
CREATED:20240703T150205Z
LAST-MODIFIED:20240703T150205Z
UID:17747-1736121600-1743811199@www.stbedesprimary.co.uk
SUMMARY:Spring Term 2025
DESCRIPTION:
URL:https://www.stbedesprimary.co.uk/diary-date/spring-term-2025/
CATEGORIES:24_25
END:VEVENT
BEGIN:VEVENT
DTSTART;VALUE=DATE:20250304
DTEND;VALUE=DATE:20250305
DTSTAMP:20260423T184236
CREATED:20241213T103431Z
LAST-MODIFIED:20241213T103431Z
UID:18023-1741046400-1741132799@www.stbedesprimary.co.uk
SUMMARY:Y3 Science Trip QMC
DESCRIPTION:
URL:https://www.stbedesprimary.co.uk/diary-date/y3-science-trip-qmc/
END:VEVENT
BEGIN:VEVENT
DTSTART;TZID=Europe/London:20250305T093000
DTEND;TZID=Europe/London:20250305T103000
DTSTAMP:20260423T184236
CREATED:20241213T103545Z
LAST-MODIFIED:20241213T103846Z
UID:18025-1741167000-1741170600@www.stbedesprimary.co.uk
SUMMARY:Ash Wednesday Mass - St Bede's Church
DESCRIPTION:
URL:https://www.stbedesprimary.co.uk/diary-date/ash-wednesday-mass-st-bedes-church/
END:VEVENT
BEGIN:VEVENT
DTSTART;VALUE=DATE:20250306
DTEND;VALUE=DATE:20250307
DTSTAMP:20260423T184236
CREATED:20241213T103750Z
LAST-MODIFIED:20241213T103750Z
UID:18027-1741219200-1741305599@www.stbedesprimary.co.uk
SUMMARY:World Book Day
DESCRIPTION:
URL:https://www.stbedesprimary.co.uk/diary-date/world-book-day/
END:VEVENT
BEGIN:VEVENT
DTSTART;VALUE=DATE:20250307
DTEND;VALUE=DATE:20250308
DTSTAMP:20260423T184236
CREATED:20241213T103916Z
LAST-MODIFIED:20241213T103916Z
UID:18029-1741305600-1741391999@www.stbedesprimary.co.uk
SUMMARY:KS1 Science Workshop
DESCRIPTION:
URL:https://www.stbedesprimary.co.uk/diary-date/ks1-science-workshop/
END:VEVENT
BEGIN:VEVENT
DTSTART;VALUE=DATE:20250311
DTEND;VALUE=DATE:20250312
DTSTAMP:20260423T184236
CREATED:20241213T103955Z
LAST-MODIFIED:20241213T104005Z
UID:18031-1741651200-1741737599@www.stbedesprimary.co.uk
SUMMARY:Science Dome in school for Science week
DESCRIPTION:
URL:https://www.stbedesprimary.co.uk/diary-date/science-dome-in-school-for-science-week/
END:VEVENT
BEGIN:VEVENT
DTSTART;VALUE=DATE:20250311
DTEND;VALUE=DATE:20250312
DTSTAMP:20260423T184236
CREATED:20241213T104038Z
LAST-MODIFIED:20241213T104038Z
UID:18033-1741651200-1741737599@www.stbedesprimary.co.uk
SUMMARY:Y2 Trip to Kew Gardens
DESCRIPTION:
URL:https://www.stbedesprimary.co.uk/diary-date/y2-trip-to-kew-gardens/
END:VEVENT
BEGIN:VEVENT
DTSTART;VALUE=DATE:20250320
DTEND;VALUE=DATE:20250321
DTSTAMP:20260423T184236
CREATED:20241213T104203Z
LAST-MODIFIED:20241213T104203Z
UID:18035-1742428800-1742515199@www.stbedesprimary.co.uk
SUMMARY:KS2 Lenten Penetential Service - Children Only
DESCRIPTION:
URL:https://www.stbedesprimary.co.uk/diary-date/ks2-lenten-penetential-service-children-only/
END:VEVENT
BEGIN:VEVENT
DTSTART;VALUE=DATE:20250327
DTEND;VALUE=DATE:20250328
DTSTAMP:20260423T184236
CREATED:20241213T110201Z
LAST-MODIFIED:20241213T110201Z
UID:18067-1743033600-1743119999@www.stbedesprimary.co.uk
SUMMARY:Class Photographs
DESCRIPTION:
URL:https://www.stbedesprimary.co.uk/diary-date/class-photographs/
END:VEVENT
END:VCALENDAR