BEGIN:VCALENDAR
VERSION:2.0
PRODID:-//St Bede&#039;s Catholic Primary School - ECPv6.15.16//NONSGML v1.0//EN
CALSCALE:GREGORIAN
METHOD:PUBLISH
X-ORIGINAL-URL:https://www.stbedesprimary.co.uk
X-WR-CALDESC:Events for St Bede&#039;s Catholic Primary School
REFRESH-INTERVAL;VALUE=DURATION:PT1H
X-Robots-Tag:noindex
X-PUBLISHED-TTL:PT1H
BEGIN:VTIMEZONE
TZID:Europe/London
BEGIN:DAYLIGHT
TZOFFSETFROM:+0000
TZOFFSETTO:+0100
TZNAME:BST
DTSTART:20240331T010000
END:DAYLIGHT
BEGIN:STANDARD
TZOFFSETFROM:+0100
TZOFFSETTO:+0000
TZNAME:GMT
DTSTART:20241027T010000
END:STANDARD
BEGIN:DAYLIGHT
TZOFFSETFROM:+0000
TZOFFSETTO:+0100
TZNAME:BST
DTSTART:20250330T010000
END:DAYLIGHT
BEGIN:STANDARD
TZOFFSETFROM:+0100
TZOFFSETTO:+0000
TZNAME:GMT
DTSTART:20251026T010000
END:STANDARD
BEGIN:DAYLIGHT
TZOFFSETFROM:+0000
TZOFFSETTO:+0100
TZNAME:BST
DTSTART:20260329T010000
END:DAYLIGHT
BEGIN:STANDARD
TZOFFSETFROM:+0100
TZOFFSETTO:+0000
TZNAME:GMT
DTSTART:20261025T010000
END:STANDARD
END:VTIMEZONE
BEGIN:VEVENT
DTSTART;VALUE=DATE:20250106
DTEND;VALUE=DATE:20250405
DTSTAMP:20260423T184244
CREATED:20240703T150205Z
LAST-MODIFIED:20240703T150205Z
UID:17747-1736121600-1743811199@www.stbedesprimary.co.uk
SUMMARY:Spring Term 2025
DESCRIPTION:
URL:https://www.stbedesprimary.co.uk/diary-date/spring-term-2025/
CATEGORIES:24_25
END:VEVENT
BEGIN:VEVENT
DTSTART;TZID=Europe/London:20250401T143000
DTEND;TZID=Europe/London:20250401T153000
DTSTAMP:20260423T184244
CREATED:20241213T104317Z
LAST-MODIFIED:20241213T104317Z
UID:18037-1743517800-1743521400@www.stbedesprimary.co.uk
SUMMARY:Palm Sunday Liturgy KS1 - in St Bede's Church
DESCRIPTION:
URL:https://www.stbedesprimary.co.uk/diary-date/palm-sunday-liturgy-ks1-in-st-bedes-church/
END:VEVENT
BEGIN:VEVENT
DTSTART;TZID=Europe/London:20250402T143000
DTEND;TZID=Europe/London:20250402T153000
DTSTAMP:20260423T184244
CREATED:20241213T104414Z
LAST-MODIFIED:20241213T104414Z
UID:18039-1743604200-1743607800@www.stbedesprimary.co.uk
SUMMARY:Last Supper Liturgy Y3/4 - St Bede's Church
DESCRIPTION:
URL:https://www.stbedesprimary.co.uk/diary-date/last-supper-liturgy-y3-4-st-bedes-church/
END:VEVENT
BEGIN:VEVENT
DTSTART;TZID=Europe/London:20250403T143000
DTEND;TZID=Europe/London:20250403T153000
DTSTAMP:20260423T184244
CREATED:20241213T104511Z
LAST-MODIFIED:20241213T104511Z
UID:18041-1743690600-1743694200@www.stbedesprimary.co.uk
SUMMARY:Stations of Cross Liturgy Y5/6 - in St Bede's Church
DESCRIPTION:
URL:https://www.stbedesprimary.co.uk/diary-date/stations-of-cross-liturgy-y5-6-in-st-bedes-church/
END:VEVENT
BEGIN:VEVENT
DTSTART;TZID=Europe/London:20250404T140000
DTEND;TZID=Europe/London:20250404T140000
DTSTAMP:20260423T184244
CREATED:20241213T104641Z
LAST-MODIFIED:20241213T104641Z
UID:18043-1743775200-1743775200@www.stbedesprimary.co.uk
SUMMARY:Maundy Thursday - Term Ends 2pm
DESCRIPTION:
URL:https://www.stbedesprimary.co.uk/diary-date/maundy-thursday-term-ends-2pm/
END:VEVENT
BEGIN:VEVENT
DTSTART;VALUE=DATE:20250422
DTEND;VALUE=DATE:20250423
DTSTAMP:20260423T184244
CREATED:20241213T104729Z
LAST-MODIFIED:20241213T104729Z
UID:18045-1745280000-1745366399@www.stbedesprimary.co.uk
SUMMARY:Children return to school
DESCRIPTION:
URL:https://www.stbedesprimary.co.uk/diary-date/children-return-to-school-4/
END:VEVENT
BEGIN:VEVENT
DTSTART;VALUE=DATE:20250422
DTEND;VALUE=DATE:20250719
DTSTAMP:20260423T184244
CREATED:20240703T150453Z
LAST-MODIFIED:20240703T150453Z
UID:17754-1745280000-1752883199@www.stbedesprimary.co.uk
SUMMARY:Summer Term 2025
DESCRIPTION:
URL:https://www.stbedesprimary.co.uk/diary-date/summer-term-2025/
CATEGORIES:24_25
END:VEVENT
BEGIN:VEVENT
DTSTART;VALUE=DATE:20250423
DTEND;VALUE=DATE:20250424
DTSTAMP:20260423T184244
CREATED:20241213T112636Z
LAST-MODIFIED:20241213T112636Z
UID:18109-1745366400-1745452799@www.stbedesprimary.co.uk
SUMMARY:St George's Day
DESCRIPTION:
URL:https://www.stbedesprimary.co.uk/diary-date/st-georges-day/
END:VEVENT
BEGIN:VEVENT
DTSTART;TZID=Europe/London:20250423T090000
DTEND;TZID=Europe/London:20250425T143000
DTSTAMP:20260423T184244
CREATED:20241213T104940Z
LAST-MODIFIED:20241213T104940Z
UID:18049-1745398800-1745591400@www.stbedesprimary.co.uk
SUMMARY:Y4 Residential Trip to Ufton Court
DESCRIPTION:
URL:https://www.stbedesprimary.co.uk/diary-date/y4-residential-trip-to-ufton-court/
END:VEVENT
BEGIN:VEVENT
DTSTART;TZID=Europe/London:20250423T093000
DTEND;TZID=Europe/London:20250423T103000
DTSTAMP:20260423T184244
CREATED:20241213T104834Z
LAST-MODIFIED:20241213T104834Z
UID:18047-1745400600-1745404200@www.stbedesprimary.co.uk
SUMMARY:Easter Mass - in St Bede's Church
DESCRIPTION:
URL:https://www.stbedesprimary.co.uk/diary-date/easter-mass-in-st-bedes-church/
END:VEVENT
END:VCALENDAR